BEGIN:VCALENDAR
VERSION:2.0
PRODID:-//Tukios.com/
BEGIN:VEVENT
UID:c9443c21-8c11-4a37-9ff4-6a2f60f5b9a7@www.hooperfuneralchapel.com
DTSTAMP:20260422T003657Z
DTSTART:20260507T173000Z
DTEND:20260507T183000Z
SUMMARY:Inurnment
DESCRIPTION:
URL:https://www.hooperfuneralchapel.com/obituaries/llywellon-mohr
LOCATION: 830 Highland Road  Newtown PA 18940
GEO:40.2649466;-74.9046413
END:VEVENT
END:VCALENDAR